BEGIN:VCALENDAR
VERSION:2.0
PRODID:-//Bildunggrenzenlos - ECPv4.4.5//NONSGML v1.0//EN
CALSCALE:GREGORIAN
METHOD:PUBLISH
X-WR-CALNAME:Bildunggrenzenlos
X-ORIGINAL-URL:http://bildunggrenzenlos.at
X-WR-CALDESC:Events for Bildunggrenzenlos
BEGIN:VEVENT
DTSTART;TZID=Europe/Vienna:20200116T164500
DTEND;TZID=Europe/Vienna:20200116T170000
DTSTAMP:20260423T100054
CREATED:20190927T160624Z
LAST-MODIFIED:20190927T160624Z
UID:1180-1579193100-1579194000@bildunggrenzenlos.at
SUMMARY:Susanne Gerull: Obdachlosenfeindlichkeit ― Von gesellschaftlicher Stigmatisierung bis zur Hasskriminalität
DESCRIPTION:Obdachlose Menschen machen nicht erst seit heute Stigmatisierungs- und Ausgrenzungserfahrungen – als sogenannte „Asoziale“ wurden sie in den Konzentrationslagern der Nationalsozialisten\numgebracht und in den beiden deutschen Staaten nach dem 2. Weltkrieg noch bis 1974 bzw. 1990 kriminalisiert. Aktuelle Studien zeigen auf\, dass Obdachlose von der Gesellschaft weiterhin vielfach als „arbeitsscheu“ etikettiert und als „unangenehm“ empfunden werden. Dies ist der Nährboden für andauernde Stigmatisierung und Diskriminierung bis hin zu Hassverbrechen mit Todesfolge.
URL:http://bildunggrenzenlos.at/event/susanne-gerull-obdachlosenfeindlichkeit-%e2%80%95-von-gesellschaftlicher-stigmatisierung-bis-zur-hasskriminalitaet/
LOCATION:Universitätsring 1\, Wien\, 1010
END:VEVENT
END:VCALENDAR